BEGIN:VCALENDAR
VERSION:2.0
PRODID:-//Town of Worcester, Vermont - ECPv6.13.2.1//NONSGML v1.0//EN
CALSCALE:GREGORIAN
METHOD:PUBLISH
X-WR-CALNAME:Town of Worcester, Vermont
X-ORIGINAL-URL:https://worcestervt.org/wp
X-WR-CALDESC:Events for Town of Worcester, Vermont
REFRESH-INTERVAL;VALUE=DURATION:PT1H
X-Robots-Tag:noindex
X-PUBLISHED-TTL:PT1H
BEGIN:VTIMEZONE
TZID:America/New_York
BEGIN:DAYLIGHT
TZOFFSETFROM:-0500
TZOFFSETTO:-0400
TZNAME:EDT
DTSTART:20260308T070000
END:DAYLIGHT
BEGIN:STANDARD
TZOFFSETFROM:-0400
TZOFFSETTO:-0500
TZNAME:EST
DTSTART:20261101T060000
END:STANDARD
END:VTIMEZONE
BEGIN:VEVENT
DTSTART;TZID=America/New_York:20260502T090000
DTEND;TZID=America/New_York:20260502T150000
DTSTAMP:20260420T085912
CREATED:20260311T130903Z
LAST-MODIFIED:20260311T130903Z
UID:10529-1777712400-1777734000@worcestervt.org
SUMMARY:Bi-Annual Clothing Swap
DESCRIPTION:  \n  \n  \nTHE DAY May 2nd-9:00am to 3:00pm 1.00$ a bag!\nbaby clothes\, ladies\, men’s and juniors & baby clothes\,\nhouse wares\, linens\, sport equipment\, costumes \nAll proceeds go to the monthly Community Pot Luck Dinner
URL:https://worcestervt.org/wp/event/bi-annual-clothing-swap-2
END:VEVENT
END:VCALENDAR